BEGIN:VCALENDAR
VERSION:2.0
PRODID:-//Major Cities Conference - ECPv6.15.20//NONSGML v1.0//EN
CALSCALE:GREGORIAN
METHOD:PUBLISH
X-WR-CALNAME:Major Cities Conference
X-ORIGINAL-URL:https://majorcitiesconference.com
X-WR-CALDESC:Events for Major Cities Conference
REFRESH-INTERVAL;VALUE=DURATION:PT1H
X-Robots-Tag:noindex
X-PUBLISHED-TTL:PT1H
BEGIN:VTIMEZONE
TZID:America/New_York
BEGIN:DAYLIGHT
TZOFFSETFROM:-0500
TZOFFSETTO:-0400
TZNAME:EDT
DTSTART:20250309T070000
END:DAYLIGHT
BEGIN:STANDARD
TZOFFSETFROM:-0400
TZOFFSETTO:-0500
TZNAME:EST
DTSTART:20251102T060000
END:STANDARD
BEGIN:DAYLIGHT
TZOFFSETFROM:-0500
TZOFFSETTO:-0400
TZNAME:EDT
DTSTART:20260308T070000
END:DAYLIGHT
BEGIN:STANDARD
TZOFFSETFROM:-0400
TZOFFSETTO:-0500
TZNAME:EST
DTSTART:20261101T060000
END:STANDARD
BEGIN:DAYLIGHT
TZOFFSETFROM:-0500
TZOFFSETTO:-0400
TZNAME:EDT
DTSTART:20270314T070000
END:DAYLIGHT
BEGIN:STANDARD
TZOFFSETFROM:-0400
TZOFFSETTO:-0500
TZNAME:EST
DTSTART:20271107T060000
END:STANDARD
END:VTIMEZONE
BEGIN:VEVENT
DTSTART;TZID=America/New_York:20260304T170000
DTEND;TZID=America/New_York:20260304T190000
DTSTAMP:20260421T091443
CREATED:20260204T143740Z
LAST-MODIFIED:20260209T134945Z
UID:3591-1772643600-1772650800@majorcitiesconference.com
SUMMARY:Major Cities Conference Welcome Reception
DESCRIPTION:
URL:https://majorcitiesconference.com/event/major-cities-conference-welcome-reception/
LOCATION:Ole Red Rooftop\, 300 Broadway\, Nashville\, TN\, 37201
CATEGORIES:Welcome Reception
END:VEVENT
END:VCALENDAR