BEGIN:VCALENDAR
VERSION:2.0
PRODID:-//Major Cities Conference - ECPv6.15.20//NONSGML v1.0//EN
CALSCALE:GREGORIAN
METHOD:PUBLISH
X-WR-CALNAME:Major Cities Conference
X-ORIGINAL-URL:https://majorcitiesconference.com
X-WR-CALDESC:Events for Major Cities Conference
REFRESH-INTERVAL;VALUE=DURATION:PT1H
X-Robots-Tag:noindex
X-PUBLISHED-TTL:PT1H
BEGIN:VTIMEZONE
TZID:America/New_York
BEGIN:DAYLIGHT
TZOFFSETFROM:-0500
TZOFFSETTO:-0400
TZNAME:EDT
DTSTART:20250309T070000
END:DAYLIGHT
BEGIN:STANDARD
TZOFFSETFROM:-0400
TZOFFSETTO:-0500
TZNAME:EST
DTSTART:20251102T060000
END:STANDARD
BEGIN:DAYLIGHT
TZOFFSETFROM:-0500
TZOFFSETTO:-0400
TZNAME:EDT
DTSTART:20260308T070000
END:DAYLIGHT
BEGIN:STANDARD
TZOFFSETFROM:-0400
TZOFFSETTO:-0500
TZNAME:EST
DTSTART:20261101T060000
END:STANDARD
BEGIN:DAYLIGHT
TZOFFSETFROM:-0500
TZOFFSETTO:-0400
TZNAME:EDT
DTSTART:20270314T070000
END:DAYLIGHT
BEGIN:STANDARD
TZOFFSETFROM:-0400
TZOFFSETTO:-0500
TZNAME:EST
DTSTART:20271107T060000
END:STANDARD
END:VTIMEZONE
BEGIN:VEVENT
DTSTART;TZID=America/New_York:20260306T080000
DTEND;TZID=America/New_York:20260306T090000
DTSTAMP:20260421T091511
CREATED:20260226T161859Z
LAST-MODIFIED:20260226T161859Z
UID:4220-1772784000-1772787600@majorcitiesconference.com
SUMMARY:Breakfast Sponsored By: Tunnel To Towers Foundation
DESCRIPTION:
URL:https://majorcitiesconference.com/event/breakfast-sponsored-by-tunnel-to-towers-foundation/
LOCATION:Grand Hyatt | North Coast
CATEGORIES:Major Cities Conference
END:VEVENT
BEGIN:VEVENT
DTSTART;TZID=America/New_York:20260306T090000
DTEND;TZID=America/New_York:20260306T091500
DTSTAMP:20260421T091511
CREATED:20260228T133640Z
LAST-MODIFIED:20260305T015714Z
UID:4267-1772787600-1772788500@majorcitiesconference.com
SUMMARY:Honor Guard Nashville Fire Department Color Presentation
DESCRIPTION:Darryl Worley\, Recording Artist\nHave You Forgotten
URL:https://majorcitiesconference.com/event/honor-guard-nashville-fire-department-color-presentation/
LOCATION:Summit Ballroom ABCD
CATEGORIES:Major Cities Conference
END:VEVENT
BEGIN:VEVENT
DTSTART;TZID=America/New_York:20260306T091500
DTEND;TZID=America/New_York:20260306T093000
DTSTAMP:20260421T091511
CREATED:20260226T162122Z
LAST-MODIFIED:20260228T133749Z
UID:4222-1772788500-1772789400@majorcitiesconference.com
SUMMARY:Tunnel To Towers Foundation
DESCRIPTION:John Huvane\, VP & Executive Board Member\,\nTunnel To Towers Foundation
URL:https://majorcitiesconference.com/event/tunnel-to-towers-foundation-3/
LOCATION:Summit Ballroom ABCD
CATEGORIES:Major Cities Conference
END:VEVENT
BEGIN:VEVENT
DTSTART;TZID=America/New_York:20260306T093000
DTEND;TZID=America/New_York:20260306T104500
DTSTAMP:20260421T091511
CREATED:20260226T162406Z
LAST-MODIFIED:20260228T133904Z
UID:4224-1772789400-1772793900@majorcitiesconference.com
SUMMARY:Officer Wellness:  Surviving a Critical Incident
DESCRIPTION:Alec Iurato\, Training Officer\,\nBristol Police Department (CT)
URL:https://majorcitiesconference.com/event/officer-wellness-surviving-a-critical-incident/
LOCATION:Summit Ballroom ABCD
CATEGORIES:Major Cities Conference
END:VEVENT
BEGIN:VEVENT
DTSTART;TZID=America/New_York:20260306T104500
DTEND;TZID=America/New_York:20260306T110000
DTSTAMP:20260421T091511
CREATED:20260226T162618Z
LAST-MODIFIED:20260226T162618Z
UID:4226-1772793900-1772794800@majorcitiesconference.com
SUMMARY:Sponsor Raffles
DESCRIPTION:
URL:https://majorcitiesconference.com/event/sponsor-raffles/
CATEGORIES:Major Cities Conference
END:VEVENT
BEGIN:VEVENT
DTSTART;TZID=America/New_York:20260306T110000
DTEND;TZID=America/New_York:20260306T120000
DTSTAMP:20260421T091511
CREATED:20260226T162822Z
LAST-MODIFIED:20260226T162822Z
UID:4228-1772794800-1772798400@majorcitiesconference.com
SUMMARY:The Evolution of Cartels
DESCRIPTION:Frank Tarentino\, Associate Chief of Operations\,\nNortheast Region\,\nU.S. Drug Enforcement Administration
URL:https://majorcitiesconference.com/event/the-evolution-of-cartels/
LOCATION:Summit Ballroom ABCD
CATEGORIES:Major Cities Conference
END:VEVENT
BEGIN:VEVENT
DTSTART;TZID=America/New_York:20260306T120000
DTEND;TZID=America/New_York:20260306T130000
DTSTAMP:20260421T091511
CREATED:20260226T162955Z
LAST-MODIFIED:20260226T162955Z
UID:4230-1772798400-1772802000@majorcitiesconference.com
SUMMARY:LUNCH
DESCRIPTION:
URL:https://majorcitiesconference.com/event/lunch-5/
LOCATION:Grand Hyatt | North Coast
CATEGORIES:Major Cities Conference
END:VEVENT
BEGIN:VEVENT
DTSTART;TZID=America/New_York:20260306T140000
DTEND;TZID=America/New_York:20260306T144500
DTSTAMP:20260421T091511
CREATED:20260226T163349Z
LAST-MODIFIED:20260226T163349Z
UID:4234-1772805600-1772808300@majorcitiesconference.com
SUMMARY:Transforming Organizations
DESCRIPTION:Kenneth Corey\, Executive Director\,\nPolicing & Leadership Academy at the University of Chicago Crime Lab &\nFormer NYPD Chief of Department
URL:https://majorcitiesconference.com/event/transforming-organizations/
LOCATION:Summit Ballroom ABCD
CATEGORIES:Major Cities Conference
END:VEVENT
BEGIN:VEVENT
DTSTART;TZID=America/New_York:20260306T144500
DTEND;TZID=America/New_York:20260306T144500
DTSTAMP:20260421T091511
CREATED:20260226T163732Z
LAST-MODIFIED:20260226T163732Z
UID:4236-1772808300-1772808300@majorcitiesconference.com
SUMMARY:Closing Remarks
DESCRIPTION:Vincent Vallelong\, President\,\nSergeants Benevolent Association\n&\nMike Solan\, President\,\nSeattle Police Officers Guild
URL:https://majorcitiesconference.com/event/closing-remarks-3/
LOCATION:Summit Ballroom ABCD
CATEGORIES:Major Cities Conference
END:VEVENT
END:VCALENDAR